BEGIN:VCALENDAR
VERSION:2.0
PRODID:-//Drake Creek - ECPv6.15.20//NONSGML v1.0//EN
CALSCALE:GREGORIAN
METHOD:PUBLISH
X-WR-CALNAME:Drake Creek
X-ORIGINAL-URL:https://www.drakecreek.com
X-WR-CALDESC:Events for Drake Creek
REFRESH-INTERVAL;VALUE=DURATION:PT1H
X-Robots-Tag:noindex
X-PUBLISHED-TTL:PT1H
BEGIN:VTIMEZONE
TZID:America/Toronto
BEGIN:DAYLIGHT
TZOFFSETFROM:-0500
TZOFFSETTO:-0400
TZNAME:EDT
DTSTART:20250309T070000
END:DAYLIGHT
BEGIN:STANDARD
TZOFFSETFROM:-0400
TZOFFSETTO:-0500
TZNAME:EST
DTSTART:20251102T060000
END:STANDARD
BEGIN:DAYLIGHT
TZOFFSETFROM:-0500
TZOFFSETTO:-0400
TZNAME:EDT
DTSTART:20260308T070000
END:DAYLIGHT
BEGIN:STANDARD
TZOFFSETFROM:-0400
TZOFFSETTO:-0500
TZNAME:EST
DTSTART:20261101T060000
END:STANDARD
BEGIN:DAYLIGHT
TZOFFSETFROM:-0500
TZOFFSETTO:-0400
TZNAME:EDT
DTSTART:20270314T070000
END:DAYLIGHT
BEGIN:STANDARD
TZOFFSETFROM:-0400
TZOFFSETTO:-0500
TZNAME:EST
DTSTART:20271107T060000
END:STANDARD
END:VTIMEZONE
BEGIN:VEVENT
DTSTART;VALUE=DATE:20260330
DTEND;VALUE=DATE:20260404
DTSTAMP:20260424T114551
CREATED:20260120T140853Z
LAST-MODIFIED:20260120T140853Z
UID:14850-1774828800-1775260799@www.drakecreek.com
SUMMARY:Spring Aerification
DESCRIPTION:
URL:https://www.drakecreek.com/event/spring-aerification-2/
END:VEVENT
BEGIN:VEVENT
DTSTART;TZID=America/Toronto:20260402T120000
DTEND;TZID=America/Toronto:20260402T163000
DTSTAMP:20260424T114551
CREATED:20260324T123935Z
LAST-MODIFIED:20260324T123935Z
UID:15035-1775131200-1775147400@www.drakecreek.com
SUMMARY:Taylormade Demo Day
DESCRIPTION:Taylormade Demo Day\nCome join the staff at Drake Creek Golf Club to try the newest technology from Taylormade Golf!\nThursday\, April 2nd from 12:00pm – 4:30pm\nCold weather? No problem!\nIf it’s cold or rainy\, we will hold the event at our indoor PGA Learning Center.\nREGISTER TODAY:\nREGISTER\nTry the new 2026 golf equipment and play what the pros are playing.\nSpeak with our PGA staff and the Taylormade representatives to find out what clubs are right for your game. \nLove the club? Clubs will be on sale during this event!
URL:https://www.drakecreek.com/event/taylormade-demo-day-4/
END:VEVENT
END:VCALENDAR