BEGIN:VCALENDAR
VERSION:2.0
PRODID:-//Drake Creek - ECPv6.15.20//NONSGML v1.0//EN
CALSCALE:GREGORIAN
METHOD:PUBLISH
X-WR-CALNAME:Drake Creek
X-ORIGINAL-URL:https://www.drakecreek.com
X-WR-CALDESC:Events for Drake Creek
REFRESH-INTERVAL;VALUE=DURATION:PT1H
X-Robots-Tag:noindex
X-PUBLISHED-TTL:PT1H
BEGIN:VTIMEZONE
TZID:America/Toronto
BEGIN:DAYLIGHT
TZOFFSETFROM:-0500
TZOFFSETTO:-0400
TZNAME:EDT
DTSTART:20250309T070000
END:DAYLIGHT
BEGIN:STANDARD
TZOFFSETFROM:-0400
TZOFFSETTO:-0500
TZNAME:EST
DTSTART:20251102T060000
END:STANDARD
BEGIN:DAYLIGHT
TZOFFSETFROM:-0500
TZOFFSETTO:-0400
TZNAME:EDT
DTSTART:20260308T070000
END:DAYLIGHT
BEGIN:STANDARD
TZOFFSETFROM:-0400
TZOFFSETTO:-0500
TZNAME:EST
DTSTART:20261101T060000
END:STANDARD
BEGIN:DAYLIGHT
TZOFFSETFROM:-0500
TZOFFSETTO:-0400
TZNAME:EDT
DTSTART:20270314T070000
END:DAYLIGHT
BEGIN:STANDARD
TZOFFSETFROM:-0400
TZOFFSETTO:-0500
TZNAME:EST
DTSTART:20271107T060000
END:STANDARD
END:VTIMEZONE
BEGIN:VEVENT
DTSTART;VALUE=DATE:20260321
DTEND;VALUE=DATE:20260322
DTSTAMP:20260424T131115
CREATED:20260120T140746Z
LAST-MODIFIED:20260206T155920Z
UID:14847-1774051200-1774137599@www.drakecreek.com
SUMMARY:2026 Monkey’s Uncle 4-Person Tournament
DESCRIPTION:Join Us for a One-of-a-Kind Golf Challenge at Drake Creek!\nAre you ready for a tournament like no other?\nThe 2026 Monkey’s Uncle 4-Person Tournament is back at Drake Creek Golf Club on Saturday\, March 21st\, 2026\, and you won’t want to miss out!\nREGISTER HERE\nTournament Details:\nDate: Saturday\, March 21st\, 2026\nStart Time: 9:00 AM Shotgun Start\nEntry Fee: $220 per team (+tax) (Includes golf\, cart & prizes)\nSkins & Mulligans Available\nIt’s a wild and fun-filled event that will test your skills and keep you on your toes!\nWhat makes this event special? A different format on every hole! You’ll take on challenges like:\n4-Person Scramble\nBest Ball\nBetter Ball of 2-Person Scramble\nAlternate Shot\n4 Tee Off – 3 Hit Second Shot – 2 Hit Third Shot – 1 Hits Fourth Shot\n… and 13 more unique formats!\nSecure Your Spot Now!\nSign up today using the link below or call us at 270-898-4653 to register your team!\nSpots are limited\, so don’t wait—join us for an unforgettable day of golf\, competition\, and great times at Drake Creek Golf Club!\nSee you on the course!\nREGISTER HERE
URL:https://www.drakecreek.com/event/monkeys-uncle-tournament-2/
END:VEVENT
END:VCALENDAR