BEGIN:VCALENDAR
VERSION:2.0
PRODID:-//Drake Creek - ECPv6.15.20//NONSGML v1.0//EN
CALSCALE:GREGORIAN
METHOD:PUBLISH
X-WR-CALNAME:Drake Creek
X-ORIGINAL-URL:https://www.drakecreek.com
X-WR-CALDESC:Events for Drake Creek
REFRESH-INTERVAL;VALUE=DURATION:PT1H
X-Robots-Tag:noindex
X-PUBLISHED-TTL:PT1H
BEGIN:VTIMEZONE
TZID:America/Toronto
BEGIN:DAYLIGHT
TZOFFSETFROM:-0500
TZOFFSETTO:-0400
TZNAME:EDT
DTSTART:20250309T070000
END:DAYLIGHT
BEGIN:STANDARD
TZOFFSETFROM:-0400
TZOFFSETTO:-0500
TZNAME:EST
DTSTART:20251102T060000
END:STANDARD
BEGIN:DAYLIGHT
TZOFFSETFROM:-0500
TZOFFSETTO:-0400
TZNAME:EDT
DTSTART:20260308T070000
END:DAYLIGHT
BEGIN:STANDARD
TZOFFSETFROM:-0400
TZOFFSETTO:-0500
TZNAME:EST
DTSTART:20261101T060000
END:STANDARD
BEGIN:DAYLIGHT
TZOFFSETFROM:-0500
TZOFFSETTO:-0400
TZNAME:EDT
DTSTART:20270314T070000
END:DAYLIGHT
BEGIN:STANDARD
TZOFFSETFROM:-0400
TZOFFSETTO:-0500
TZNAME:EST
DTSTART:20271107T060000
END:STANDARD
END:VTIMEZONE
BEGIN:VEVENT
DTSTART;VALUE=DATE:20260314
DTEND;VALUE=DATE:20260315
DTSTAMP:20260424T131111
CREATED:20260120T140731Z
LAST-MODIFIED:20260219T172224Z
UID:14844-1773446400-1773532799@www.drakecreek.com
SUMMARY:Cold Golf Warm Hearts
DESCRIPTION:Drake Creek Golf Club invites you to our 19th Annual Cold Golf Warm Hearts Couples Tournament!\nNEW DATE:\nSaturday\, March 14th\, 2026\nEntry Fee: $75/Team\n(Includes golf\, cart\, tax\, prizes\, and brunch!)\nREGISTER HERE\nGrab your favorite golfing partner and enjoy a memorable day featuring:\n\n18-Hole Couples Golf Scramble\nValentine’s Couples Format\nSkins & Mulligans\nRegistration & Brunch at 10:00 AM\nShotgun Start at 11:00 AM\n\nWhether you’re playing for love\, laughs\, or bragging rights\, this event is the perfect way to celebrate Valentine’s Day on the course.\nSign up online:\nREGISTER HERE\nSpots fill quickly—don’t wait! We can’t wait to see you and your valentine at Drake Creek for a day of warm hearts and great golf.
URL:https://www.drakecreek.com/event/cold-golf-warm-hearts-2/
END:VEVENT
END:VCALENDAR